BEGIN:VCALENDAR
VERSION:2.0
PRODID:-//cookieskitchen.co.uk - ECPv6.15.20//NONSGML v1.0//EN
CALSCALE:GREGORIAN
METHOD:PUBLISH
X-WR-CALNAME:cookieskitchen.co.uk
X-ORIGINAL-URL:https://cookieskitchen.co.uk
X-WR-CALDESC:Events for cookieskitchen.co.uk
REFRESH-INTERVAL;VALUE=DURATION:PT1H
X-Robots-Tag:noindex
X-PUBLISHED-TTL:PT1H
BEGIN:VTIMEZONE
TZID:Europe/London
BEGIN:DAYLIGHT
TZOFFSETFROM:+0000
TZOFFSETTO:+0100
TZNAME:BST
DTSTART:20240331T010000
END:DAYLIGHT
BEGIN:STANDARD
TZOFFSETFROM:+0100
TZOFFSETTO:+0000
TZNAME:GMT
DTSTART:20241027T010000
END:STANDARD
BEGIN:DAYLIGHT
TZOFFSETFROM:+0000
TZOFFSETTO:+0100
TZNAME:BST
DTSTART:20250330T010000
END:DAYLIGHT
BEGIN:STANDARD
TZOFFSETFROM:+0100
TZOFFSETTO:+0000
TZNAME:GMT
DTSTART:20251026T010000
END:STANDARD
BEGIN:DAYLIGHT
TZOFFSETFROM:+0000
TZOFFSETTO:+0100
TZNAME:BST
DTSTART:20260329T010000
END:DAYLIGHT
BEGIN:STANDARD
TZOFFSETFROM:+0100
TZOFFSETTO:+0000
TZNAME:GMT
DTSTART:20261025T010000
END:STANDARD
END:VTIMEZONE
BEGIN:VEVENT
DTSTART;TZID=Europe/London:20250908T152000
DTEND;TZID=Europe/London:20251006T164500
DTSTAMP:20260423T163131
CREATED:20250703T105731Z
LAST-MODIFIED:20251007T200402Z
UID:4210-1757344800-1759769100@cookieskitchen.co.uk
SUMMARY:After School Club - Rosecroft - Monday
DESCRIPTION:We are excited to be continuing our after school club at Roescroft Primary School in September and we would love your budding young chef to join us for the remainder of this half term. \nIf you have any questions\, please do get in touch either via email to bookings@cookieskitchen.co.uk or give Head Cookie\, Caz a call on 07786271227
URL:https://cookieskitchen.co.uk/event/after-school-club-rosecroft-monday-4/
CATEGORIES:after school clubs
ORGANIZER;CN="Cookies Kitchen Ltd":MAILTO:bookings@cookieskitchen.co.uk
END:VEVENT
BEGIN:VEVENT
DTSTART;TZID=Europe/London:20250908T152500
DTEND;TZID=Europe/London:20251006T164500
DTSTAMP:20260423T163131
CREATED:20250703T105510Z
LAST-MODIFIED:20251007T200342Z
UID:4208-1757345100-1759769100@cookieskitchen.co.uk
SUMMARY:After School Club - Lingwood - Monday
DESCRIPTION:We are excited to be continuing our after school club at Lingwood Primary School in September and we would love for your budding young chef to join us for the remainder of this term. \nIf you have any questions\, please do get in touch either via email to bookings@cookieskitchen.co.uk or give Head Cookie\, Caz a call on 07786271227
URL:https://cookieskitchen.co.uk/event/after-school-club-lingwood-monday-5/
CATEGORIES:after school clubs
ORGANIZER;CN="Cookies Kitchen Ltd":MAILTO:bookings@cookieskitchen.co.uk
END:VEVENT
BEGIN:VEVENT
DTSTART;TZID=Europe/London:20250909T152000
DTEND;TZID=Europe/London:20251006T164500
DTSTAMP:20260423T163131
CREATED:20250703T110423Z
LAST-MODIFIED:20251007T200245Z
UID:4217-1757431200-1759769100@cookieskitchen.co.uk
SUMMARY:After School Club - Horsford - Tuesday
DESCRIPTION:We are excited to be continuing our after school club at Horsford Primary School in September and we would love your young chef to join us. \nOur next half term starts back on Tuesday 9th September and is 7 weeks long taking us to Tuesday 21st October. The total cost for the half term will be £69.30 (this includes a slight price increase and will be the only rise for the academic year) \nIf you have any questions\, please do get in touch either via email to bookings@cookieskitchen.co.uk or give Head Cookie\, Caz a call on 07786271227
URL:https://cookieskitchen.co.uk/event/after-school-club-horsford-tuesday-4/
CATEGORIES:after school clubs
ORGANIZER;CN="Cookies Kitchen Ltd":MAILTO:bookings@cookieskitchen.co.uk
END:VEVENT
BEGIN:VEVENT
DTSTART;TZID=Europe/London:20250909T152000
DTEND;TZID=Europe/London:20251006T164500
DTSTAMP:20260423T163131
CREATED:20250703T110649Z
LAST-MODIFIED:20251007T200506Z
UID:4220-1757431200-1759769100@cookieskitchen.co.uk
SUMMARY:After School Club - Rosecroft - Tuesday
DESCRIPTION:We are excited to be continuing our after school club at Rosecroft Primary School in September and we would love for your budding young chef to join us. \nOur next half term starts back on Tuesday 9th September and is 7 weeks long taking us to Tuesday 21st October. The total cost for the half term will be £69.30 (this includes a slight price increase and will be the only rise for the academic year) \nIf you have any questions\, please do get in touch either via email to bookings@cookieskitchen.co.uk or give Head Cookie\, Caz a call on 07786271227
URL:https://cookieskitchen.co.uk/event/after-school-club-rosecroft-tuesday-3/
CATEGORIES:after school clubs
END:VEVENT
BEGIN:VEVENT
DTSTART;TZID=Europe/London:20250909T152000
DTEND;TZID=Europe/London:20251006T164500
DTSTAMP:20260423T163131
CREATED:20250710T104204Z
LAST-MODIFIED:20251007T200226Z
UID:4346-1757431200-1759769100@cookieskitchen.co.uk
SUMMARY:After School Club - Hingham - Tuesday
DESCRIPTION:We are excited to be continuing our after school club at Hingham Primary School in September and we hope that all of our cooks will be keen to join us once again. \nSeptember seems such a long time away right now so we are asking everyone to secure a place for their chef with just a £20 deposit and the balance will be due by Wednesday 3rd September and I will be in touch with all the details nearer the time. \nOur next half term starts back on Tuesday 9th September and is 7 weeks long taking us to Tuesday 21st October. The total cost for the half term will be £69.30 (this includes a slight price increase and will be the only rise for the academic year) \nIf you have any questions\, please do get in touch either via email to bookings@cookieskitchen.co.uk or give Head Cookie\, Caz a call on 07786271227
URL:https://cookieskitchen.co.uk/event/after-school-club-hingham-tuesday-3/
CATEGORIES:after school clubs
ORGANIZER;CN="Cookies Kitchen Ltd":MAILTO:bookings@cookieskitchen.co.uk
END:VEVENT
END:VCALENDAR