BEGIN:VCALENDAR
VERSION:2.0
PRODID:-//cookieskitchen.co.uk - ECPv6.15.20//NONSGML v1.0//EN
CALSCALE:GREGORIAN
METHOD:PUBLISH
X-WR-CALNAME:cookieskitchen.co.uk
X-ORIGINAL-URL:https://cookieskitchen.co.uk
X-WR-CALDESC:Events for cookieskitchen.co.uk
REFRESH-INTERVAL;VALUE=DURATION:PT1H
X-Robots-Tag:noindex
X-PUBLISHED-TTL:PT1H
BEGIN:VTIMEZONE
TZID:Europe/London
BEGIN:DAYLIGHT
TZOFFSETFROM:+0000
TZOFFSETTO:+0100
TZNAME:BST
DTSTART:20240331T010000
END:DAYLIGHT
BEGIN:STANDARD
TZOFFSETFROM:+0100
TZOFFSETTO:+0000
TZNAME:GMT
DTSTART:20241027T010000
END:STANDARD
BEGIN:DAYLIGHT
TZOFFSETFROM:+0000
TZOFFSETTO:+0100
TZNAME:BST
DTSTART:20250330T010000
END:DAYLIGHT
BEGIN:STANDARD
TZOFFSETFROM:+0100
TZOFFSETTO:+0000
TZNAME:GMT
DTSTART:20251026T010000
END:STANDARD
BEGIN:DAYLIGHT
TZOFFSETFROM:+0000
TZOFFSETTO:+0100
TZNAME:BST
DTSTART:20260329T010000
END:DAYLIGHT
BEGIN:STANDARD
TZOFFSETFROM:+0100
TZOFFSETTO:+0000
TZNAME:GMT
DTSTART:20261025T010000
END:STANDARD
END:VTIMEZONE
BEGIN:VEVENT
DTSTART;TZID=Europe/London:20250423T152500
DTEND;TZID=Europe/London:20250506T164500
DTSTAMP:20260423T230550
CREATED:20250314T150800Z
LAST-MODIFIED:20250507T171310Z
UID:3449-1745421900-1746549900@cookieskitchen.co.uk
SUMMARY:After School Club - Harleston - Wednesday
DESCRIPTION:Booking is now open for next half term\, our shortest half term ever! \nWe hope that your young chef is keen to join us in the kitchen for another half term of cookery fun. The next half term starts on Wednesday 23rd April – Wednesday 21st May. \nIf you have any questions about the classes please do get in touch either via email to bookings@cookieskitchen.co.uk or give Head Cookie\, Caz a call on 07786271227
URL:https://cookieskitchen.co.uk/event/after-school-club-harleston-wednesday-2/
CATEGORIES:after school clubs
END:VEVENT
BEGIN:VEVENT
DTSTART;TZID=Europe/London:20250423T152500
DTEND;TZID=Europe/London:20250506T164500
DTSTAMP:20260423T230550
CREATED:20250314T151025Z
LAST-MODIFIED:20250507T171251Z
UID:3452-1745421900-1746549900@cookieskitchen.co.uk
SUMMARY:After School Club - Gt. Ellingham - Wednesday
DESCRIPTION:Booking is now open for next half term\, our shortest half term ever! \nWe hope that your young chef is keen to join us in the kitchen for another half term of cookery fun. The next half term starts on Wednesday 23rd April – Wednesday 21st May.  \nIf you have any questions about the classes please do get in touch either via email to bookings@cookieskitchen.co.uk or give Head Cookie\, Caz a call on 07786271227
URL:https://cookieskitchen.co.uk/event/after-school-club-gt-ellingham-wednesday-2/
CATEGORIES:after school clubs
END:VEVENT
BEGIN:VEVENT
DTSTART;TZID=Europe/London:20250424T120000
DTEND;TZID=Europe/London:20250506T123500
DTSTAMP:20260423T230550
CREATED:20250403T123106Z
LAST-MODIFIED:20250507T171411Z
UID:3734-1745496000-1746534900@cookieskitchen.co.uk
SUMMARY:Lunch Club - Hingham - Thursday
DESCRIPTION:We are so excited to be adding an additional cookery club at Hingham Primary School and we can’t wait for your budding young chefs to join us. \nOur lunch clubs run from 12.00-12.35pm each week and each week your chef can look forward to making a mixture of delicious sweet and savoury dishes at the same time as learning all the practical cookery skills they need so that they can make so many more recipes at home. \nOn cookery club day your chef will need to bring a packed lunch\, either from home or ordered from the school. They will go straight to lunch from class. \nOur class leader\, Laura will get everything cooked and packed up ready for your chefs to collect at the end of the school day. \nAll that your chef needs to bring along each week is a container to take their food home and an apron if they have one. \nIf you have any questions please do get in touch either via email to bookings@cookieskitchen.co.uk or give Head Cookie\, Caz a call on 07786271227. \nCookery club starts on Thursday 24th April and runs until Thursday 22nd May but excludes Thursday 15th May due to other commitments at the school.
URL:https://cookieskitchen.co.uk/event/lunch-club-hingham-thursday/
CATEGORIES:after school clubs,Lunch Clubs
ORGANIZER;CN="Cookies Kitchen Ltd":MAILTO:bookings@cookieskitchen.co.uk
END:VEVENT
BEGIN:VEVENT
DTSTART;TZID=Europe/London:20250424T152000
DTEND;TZID=Europe/London:20250506T164500
DTSTAMP:20260423T230550
CREATED:20250401T172955Z
LAST-MODIFIED:20250507T171341Z
UID:3704-1745508000-1746549900@cookieskitchen.co.uk
SUMMARY:After School Club  - Horsford - Thursday
DESCRIPTION:We are so excited to be adding an additional cookery club at Horsford Primary School and we would love for your young chef to join us. \nEach week our chefs get to enjoy making delicious recipes from scratch alternating between sweet and savoury recipes.  \nThe club is open to children from both Horsford school sites\, if you are joining us from Holt Road you will need to bring your chef to the Mill Lane school. \nYou can book via the website but if you have any questions please do get in touch either via email to bookings@cookieskitchen.co.uk or give Head Cookie\, Caz a call on 07786271227.
URL:https://cookieskitchen.co.uk/event/after-school-club-horsford-thursday/
CATEGORIES:after school clubs
ORGANIZER;CN="Cookies Kitchen Ltd":MAILTO:bookings@cookieskitchen.co.uk
END:VEVENT
BEGIN:VEVENT
DTSTART;TZID=Europe/London:20250424T152500
DTEND;TZID=Europe/London:20250506T164500
DTSTAMP:20260423T230550
CREATED:20250314T151250Z
LAST-MODIFIED:20250507T171541Z
UID:3455-1745508300-1746549900@cookieskitchen.co.uk
SUMMARY:After School Club - Gt. Ellingham - Thursday
DESCRIPTION:Booking is now open for next half term\, our shortest half term ever! \nWe hope that your young chef is keen to join us in the kitchen for another half term of cookery fun. The next half term starts on Thursday 24th April – Thursday 22nd May. \nIf you have any questions about the classes please do get in touch either via email to bookings@cookieskitchen.co.uk or give Head Cookie\, Caz a call on 07786271227
URL:https://cookieskitchen.co.uk/event/after-school-club-gt-ellingham-thursday-2/
CATEGORIES:after school clubs
END:VEVENT
BEGIN:VEVENT
DTSTART;TZID=Europe/London:20250424T152500
DTEND;TZID=Europe/London:20250506T164500
DTSTAMP:20260423T230550
CREATED:20250314T151441Z
LAST-MODIFIED:20250507T171135Z
UID:3458-1745508300-1746549900@cookieskitchen.co.uk
SUMMARY:After School Club - Rocklands - Thursday
DESCRIPTION:Booking is now open for next half term\, our shortest half term ever! \nWe hope that your young chef is keen to join us in the kitchen for another half term of cookery fun. The next half term starts on Thursday 24th April – Thursday 22nd May. \nIf you have any questions about the classes please do get in touch either via email to bookings@cookieskitchen.co.uk or give Head Cookie\, Caz a call on 07786271227
URL:https://cookieskitchen.co.uk/event/after-school-club-rocklands-thursday-3/
CATEGORIES:after school clubs
END:VEVENT
END:VCALENDAR