BEGIN:VCALENDAR
VERSION:2.0
PRODID:-//cookieskitchen.co.uk - ECPv6.15.20//NONSGML v1.0//EN
CALSCALE:GREGORIAN
METHOD:PUBLISH
X-ORIGINAL-URL:https://cookieskitchen.co.uk
X-WR-CALDESC:Events for cookieskitchen.co.uk
REFRESH-INTERVAL;VALUE=DURATION:PT1H
X-Robots-Tag:noindex
X-PUBLISHED-TTL:PT1H
BEGIN:VTIMEZONE
TZID:Europe/London
BEGIN:DAYLIGHT
TZOFFSETFROM:+0000
TZOFFSETTO:+0100
TZNAME:BST
DTSTART:20240331T010000
END:DAYLIGHT
BEGIN:STANDARD
TZOFFSETFROM:+0100
TZOFFSETTO:+0000
TZNAME:GMT
DTSTART:20241027T010000
END:STANDARD
BEGIN:DAYLIGHT
TZOFFSETFROM:+0000
TZOFFSETTO:+0100
TZNAME:BST
DTSTART:20250330T010000
END:DAYLIGHT
BEGIN:STANDARD
TZOFFSETFROM:+0100
TZOFFSETTO:+0000
TZNAME:GMT
DTSTART:20251026T010000
END:STANDARD
BEGIN:DAYLIGHT
TZOFFSETFROM:+0000
TZOFFSETTO:+0100
TZNAME:BST
DTSTART:20260329T010000
END:DAYLIGHT
BEGIN:STANDARD
TZOFFSETFROM:+0100
TZOFFSETTO:+0000
TZNAME:GMT
DTSTART:20261025T010000
END:STANDARD
END:VTIMEZONE
BEGIN:VEVENT
DTSTART;TZID=Europe/London:20250224T152500
DTEND;TZID=Europe/London:20250313T164500
DTSTAMP:20260424T001839
CREATED:20250126T170318Z
LAST-MODIFIED:20250314T144032Z
UID:3180-1740410700-1741884300@cookieskitchen.co.uk
SUMMARY:After School Club - Lingwood - Monday
DESCRIPTION:We look forward to continuing our after school cookery clubs at Lingwood and we hope that your young chef would like to join us once again. \nThe new half term is 6 weeks long starting Monday 24th February – Monday 31st March.  \nIf you have any questions please get in touch either via email to bookings@cookieskitchen.co.uk or give Head Cookie\, Caz a call on 07786271227
URL:https://cookieskitchen.co.uk/event/after-school-club-lingwood-monday/
CATEGORIES:after school clubs
ORGANIZER;CN="Cookies Kitchen Ltd":MAILTO:bookings@cookieskitchen.co.uk
END:VEVENT
BEGIN:VEVENT
DTSTART;TZID=Europe/London:20250224T152500
DTEND;TZID=Europe/London:20250313T164500
DTSTAMP:20260424T001839
CREATED:20250126T171935Z
LAST-MODIFIED:20250314T143912Z
UID:3183-1740410700-1741884300@cookieskitchen.co.uk
SUMMARY:After School Club - Rosecroft - Monday
DESCRIPTION:We are excited to be continuing our after school clubs at Rosecroft again next half term and we hope that your young chef would like to join us once again. \nIt is another short 6 week half term taking us up to Easter. The half term starts on Monday 24th February – Monday 31st March.  \nIf you have any questions please do get in touch either via email to bookings@cookieskitchen.co.uk or give Head Cookie\, Caz a call on 07786271227\,
URL:https://cookieskitchen.co.uk/event/after-school-club-rosecroft-monday/
CATEGORIES:after school clubs
ORGANIZER;CN="Cookies Kitchen Ltd":MAILTO:bookings@cookieskitchen.co.uk
END:VEVENT
END:VCALENDAR